BEGIN:VCALENDAR
VERSION:2.0
PRODID:-//Sunrise Beach School - ECPv6.15.20//NONSGML v1.0//EN
CALSCALE:GREGORIAN
METHOD:PUBLISH
X-ORIGINAL-URL:https://www.sunrisebeachschool.org
X-WR-CALDESC:Events for Sunrise Beach School
REFRESH-INTERVAL;VALUE=DURATION:PT1H
X-Robots-Tag:noindex
X-PUBLISHED-TTL:PT1H
BEGIN:VTIMEZONE
TZID:America/Los_Angeles
BEGIN:DAYLIGHT
TZOFFSETFROM:-0800
TZOFFSETTO:-0700
TZNAME:PDT
DTSTART:20230312T100000
END:DAYLIGHT
BEGIN:STANDARD
TZOFFSETFROM:-0700
TZOFFSETTO:-0800
TZNAME:PST
DTSTART:20231105T090000
END:STANDARD
BEGIN:DAYLIGHT
TZOFFSETFROM:-0800
TZOFFSETTO:-0700
TZNAME:PDT
DTSTART:20240310T100000
END:DAYLIGHT
BEGIN:STANDARD
TZOFFSETFROM:-0700
TZOFFSETTO:-0800
TZNAME:PST
DTSTART:20241103T090000
END:STANDARD
BEGIN:DAYLIGHT
TZOFFSETFROM:-0800
TZOFFSETTO:-0700
TZNAME:PDT
DTSTART:20250309T100000
END:DAYLIGHT
BEGIN:STANDARD
TZOFFSETFROM:-0700
TZOFFSETTO:-0800
TZNAME:PST
DTSTART:20251102T090000
END:STANDARD
END:VTIMEZONE
BEGIN:VEVENT
DTSTART;VALUE=DATE:20240301
DTEND;VALUE=DATE:20240901
DTSTAMP:20260421T164446
CREATED:20230826T000114Z
LAST-MODIFIED:20230826T000114Z
UID:1486-1709251200-1725148799@www.sunrisebeachschool.org
SUMMARY:Fall 2024 Enrollment Open to All
DESCRIPTION:
URL:https://www.sunrisebeachschool.org/event/fall-2024-enrollment-open-to-all/
CATEGORIES:Elementary School,High School,Middle School,Pre-K and Kindergarten,Sunrise Beach School
END:VEVENT
BEGIN:VEVENT
DTSTART;VALUE=DATE:20240401
DTEND;VALUE=DATE:20240406
DTSTAMP:20260421T164446
CREATED:20230826T002723Z
LAST-MODIFIED:20230826T002723Z
UID:1508-1711929600-1712361599@www.sunrisebeachschool.org
SUMMARY:No School - Spring Break
DESCRIPTION:
URL:https://www.sunrisebeachschool.org/event/no-school-spring-break/
CATEGORIES:No School,Sunrise Beach School
END:VEVENT
BEGIN:VEVENT
DTSTART;TZID=America/Los_Angeles:20240412T093000
DTEND;TZID=America/Los_Angeles:20240412T140000
DTSTAMP:20260421T164446
CREATED:20230826T003321Z
LAST-MODIFIED:20230826T003321Z
UID:1515-1712914200-1712930400@www.sunrisebeachschool.org
SUMMARY:Science Fair & High School Capstone Judging
DESCRIPTION:Science Fair projects will be evaluated\, for all grades\, K-12.\nOur High School students will also have their Capstone Projects judged.
URL:https://www.sunrisebeachschool.org/event/science-fair-high-school-capstone-judging/
CATEGORIES:Elementary School,High School,Middle School,Pre-K and Kindergarten,Sunrise Beach School
END:VEVENT
BEGIN:VEVENT
DTSTART;VALUE=DATE:20240416
DTEND;VALUE=DATE:20240417
DTSTAMP:20260421T164446
CREATED:20240305T041927Z
LAST-MODIFIED:20240305T041927Z
UID:1815-1713225600-1713311999@www.sunrisebeachschool.org
SUMMARY:Traveling Museum by the American Battlefield Trust and Chapters Regent Club
DESCRIPTION:Grades 4 through 12 will be attending a new field trip! \n\nThe Traveling Museum by the American Battlefield Trust and Chapters Regent Club.\nLocated at the Schmidt House in Olympia\, Washington.\nPlease hold the date for April 16\, 2024.\nMore information coming soon.
URL:https://www.sunrisebeachschool.org/event/traveling-museum-by-the-american-battlefield-trust-and-chapters-regent-club/
LOCATION:Sunrise Beach School
CATEGORIES:Elementary School,High School,Middle School,Sunrise Beach School
END:VEVENT
BEGIN:VEVENT
DTSTART;VALUE=DATE:20240419
DTEND;VALUE=DATE:20240420
DTSTAMP:20260421T164446
CREATED:20240418T200235Z
LAST-MODIFIED:20240729T215238Z
UID:1899-1713484800-1713571199@www.sunrisebeachschool.org
SUMMARY:Early Dismissal in Preparation for the Performances on the 19th
DESCRIPTION:All Elementary\, Middle\, and High School students will be let out at 11:30 AM in preparation for the Concert\, Science Fair Presentations\, and Talent Show later that night.
URL:https://www.sunrisebeachschool.org/event/early-dismissal-in-preparation-for-the-performances-on-the-19th/
LOCATION:Sunrise Beach School
CATEGORIES:Early Dismissal,Elementary School,High School,Middle School,Pre-K and Kindergarten,Sunrise Beach School
END:VEVENT
BEGIN:VEVENT
DTSTART;TZID=America/Los_Angeles:20240419T180000
DTEND;TZID=America/Los_Angeles:20240419T193000
DTSTAMP:20260421T164446
CREATED:20230826T003713Z
LAST-MODIFIED:20240412T200125Z
UID:1518-1713549600-1713555000@www.sunrisebeachschool.org
SUMMARY:Spring Concert\, Science Fair\, and Talent Show!
DESCRIPTION:Please join us for an exciting evening where our whole school presents at the annual Spring Concert\, Science Fair\, and Talent Show. You won’t want to miss this fun evening\, celebrating the unique talents and interests of our diverse students.
URL:https://www.sunrisebeachschool.org/event/talent-show-science-fair/
LOCATION:About Our School
CATEGORIES:Elementary School,High School,Middle School,Pre-K and Kindergarten,Sunrise Beach School
END:VEVENT
BEGIN:VEVENT
DTSTART;TZID=America/Los_Angeles:20240423T123000
DTEND;TZID=America/Los_Angeles:20240423T143000
DTSTAMP:20260421T164446
CREATED:20240305T023255Z
LAST-MODIFIED:20240305T042847Z
UID:1798-1713875400-1713882600@www.sunrisebeachschool.org
SUMMARY:Grades K–3 – Olympia Junior Programs (OJP) Presenting: “Frindle”
DESCRIPTION:Grades K–3 – Olympia Junior Programs (OJP)\nPresenting: “Frindle”\n• Program Begins: 12:30 pm\n• Location: The Olympia Center for the Performing Arts\n• Needed: Drivers and Chaperones\n• Permission forms will be sent home for signatures prior to this event.
URL:https://www.sunrisebeachschool.org/event/1798/
LOCATION:the Olympia Center for the Performing Arts\, 512 Washington St. SE\, Olympia\, WA\, 98501
CATEGORIES:Elementary School,Middle School,Sunrise Beach School
END:VEVENT
BEGIN:VEVENT
DTSTART;TZID=America/Los_Angeles:20240425T120000
DTEND;TZID=America/Los_Angeles:20240425T130000
DTSTAMP:20260421T164446
CREATED:20230826T003910Z
LAST-MODIFIED:20240726T092646Z
UID:1520-1714046400-1714050000@www.sunrisebeachschool.org
SUMMARY:ASB Meeting & Lunch
DESCRIPTION:Grades 6-12\n12:00 noon\nRoom 219
URL:https://www.sunrisebeachschool.org/event/asb-meeting-lunch-2/
CATEGORIES:ASB Meetings,High School,Middle School,Sunrise Beach School
END:VEVENT
BEGIN:VEVENT
DTSTART;TZID=America/Los_Angeles:20240426T123000
DTEND;TZID=America/Los_Angeles:20240426T153000
DTSTAMP:20260421T164446
CREATED:20230826T004343Z
LAST-MODIFIED:20230826T004343Z
UID:1522-1714134600-1714145400@www.sunrisebeachschool.org
SUMMARY:Elementary Spring Tea- Invite a Parent or Grandparent to Tea (times vary by grade)
DESCRIPTION:If a parent is unable to attend\, please send a grandparent\, family friend or other loved one\, as this is a special tea dedicated to our families and loved ones\, and gifts will be presented to families. Students should have a representative from their circle to accept these gifts.\nGrades PK-1 = 12:30-1:30 pm\nGrades 2-3 = 1:30-2:30 pm\nGrades 4-5 = 2:30-3:30 pm
URL:https://www.sunrisebeachschool.org/event/elementary-spring-tea-invite-a-parent-or-grandparent-to-tea-times-vary-by-grade/
CATEGORIES:Elementary School,Pre-K and Kindergarten,Sunrise Beach School
END:VEVENT
BEGIN:VEVENT
DTSTART;VALUE=DATE:20240429
DTEND;VALUE=DATE:20240504
DTSTAMP:20260421T164446
CREATED:20230826T004537Z
LAST-MODIFIED:20230826T004537Z
UID:1524-1714348800-1714780799@www.sunrisebeachschool.org
SUMMARY:Spiritual Emphasis Week
DESCRIPTION:Please see your lead teacher for more information about specific events related to Spiritual Emphasis in your classroom.
URL:https://www.sunrisebeachschool.org/event/spiritual-emphasis-week-2/
CATEGORIES:Elementary School,High School,Middle School,Pre-K and Kindergarten,Sunrise Beach School
END:VEVENT
BEGIN:VEVENT
DTSTART;VALUE=DATE:20240429
DTEND;VALUE=DATE:20240504
DTSTAMP:20260421T164446
CREATED:20230826T004814Z
LAST-MODIFIED:20230826T004814Z
UID:1528-1714348800-1714780799@www.sunrisebeachschool.org
SUMMARY:Teacher Appreciation Week
DESCRIPTION:
URL:https://www.sunrisebeachschool.org/event/teacher-appreciation-week-2/
CATEGORIES:Elementary School,High School,Middle School,Pre-K and Kindergarten,Sunrise Beach School
END:VEVENT
END:VCALENDAR