BEGIN:VCALENDAR
VERSION:2.0
PRODID:-//Sunrise Beach School - ECPv6.15.20//NONSGML v1.0//EN
CALSCALE:GREGORIAN
METHOD:PUBLISH
X-ORIGINAL-URL:https://www.sunrisebeachschool.org
X-WR-CALDESC:Events for Sunrise Beach School
REFRESH-INTERVAL;VALUE=DURATION:PT1H
X-Robots-Tag:noindex
X-PUBLISHED-TTL:PT1H
BEGIN:VTIMEZONE
TZID:America/Los_Angeles
BEGIN:DAYLIGHT
TZOFFSETFROM:-0800
TZOFFSETTO:-0700
TZNAME:PDT
DTSTART:20230312T100000
END:DAYLIGHT
BEGIN:STANDARD
TZOFFSETFROM:-0700
TZOFFSETTO:-0800
TZNAME:PST
DTSTART:20231105T090000
END:STANDARD
BEGIN:DAYLIGHT
TZOFFSETFROM:-0800
TZOFFSETTO:-0700
TZNAME:PDT
DTSTART:20240310T100000
END:DAYLIGHT
BEGIN:STANDARD
TZOFFSETFROM:-0700
TZOFFSETTO:-0800
TZNAME:PST
DTSTART:20241103T090000
END:STANDARD
BEGIN:DAYLIGHT
TZOFFSETFROM:-0800
TZOFFSETTO:-0700
TZNAME:PDT
DTSTART:20250309T100000
END:DAYLIGHT
BEGIN:STANDARD
TZOFFSETFROM:-0700
TZOFFSETTO:-0800
TZNAME:PST
DTSTART:20251102T090000
END:STANDARD
END:VTIMEZONE
BEGIN:VEVENT
DTSTART;VALUE=DATE:20240301
DTEND;VALUE=DATE:20240901
DTSTAMP:20260421T133712
CREATED:20230826T000114Z
LAST-MODIFIED:20230826T000114Z
UID:1486-1709251200-1725148799@www.sunrisebeachschool.org
SUMMARY:Fall 2024 Enrollment Open to All
DESCRIPTION:
URL:https://www.sunrisebeachschool.org/event/fall-2024-enrollment-open-to-all/
CATEGORIES:Elementary School,High School,Middle School,Pre-K and Kindergarten,Sunrise Beach School
END:VEVENT
BEGIN:VEVENT
DTSTART;VALUE=DATE:20240603
DTEND;VALUE=DATE:20240607
DTSTAMP:20260421T133712
CREATED:20230826T064637Z
LAST-MODIFIED:20230826T064637Z
UID:1539-1717372800-1717718399@www.sunrisebeachschool.org
SUMMARY:Middle and High School Finals Week
DESCRIPTION:No Schedule Change
URL:https://www.sunrisebeachschool.org/event/middle-and-high-school-finals-week/
CATEGORIES:High School,Middle School,Sunrise Beach School
END:VEVENT
BEGIN:VEVENT
DTSTART;TZID=America/Los_Angeles:20240605T123000
DTEND;TZID=America/Los_Angeles:20240605T170000
DTSTAMP:20260421T133712
CREATED:20230826T065114Z
LAST-MODIFIED:20230826T065114Z
UID:1550-1717590600-1717606800@www.sunrisebeachschool.org
SUMMARY:Promotion & Graduation Practice
DESCRIPTION:Promotion: All School Practice: 12:30 pm\nSenior Graduates and Parents/Guardians of Seniors Practice: 3:30 pm
URL:https://www.sunrisebeachschool.org/event/promotion-graduation-practice/
CATEGORIES:Elementary School,High School,Middle School,Pre-K and Kindergarten,Sunrise Beach School
END:VEVENT
BEGIN:VEVENT
DTSTART;TZID=America/Los_Angeles:20240606T113000
DTEND;TZID=America/Los_Angeles:20240606T113000
DTSTAMP:20260421T133712
CREATED:20230826T065322Z
LAST-MODIFIED:20240729T215238Z
UID:1551-1717673400-1717673400@www.sunrisebeachschool.org
SUMMARY:Prep for Promotion and Graduation - All School Early Dismissal
DESCRIPTION:Dismissal at 11:30 am to prepare for promotion and graduation ceremony.
URL:https://www.sunrisebeachschool.org/event/prep-for-promotion-and-graduation-all-school-early-dismissal/
CATEGORIES:Early Dismissal,Elementary School,High School,Middle School,Pre-K and Kindergarten,Sunrise Beach School
END:VEVENT
BEGIN:VEVENT
DTSTART;TZID=America/Los_Angeles:20240606T200000
DTEND;TZID=America/Los_Angeles:20240606T210000
DTSTAMP:20260421T133712
CREATED:20240412T191404Z
LAST-MODIFIED:20240412T191433Z
UID:1890-1717704000-1717707600@www.sunrisebeachschool.org
SUMMARY:High School Graduation
DESCRIPTION:Sunrise Beach High School’s Annual Graduation Ceremony for the Senor graduating class 2024. This event will occur in the Sanctuary of the Lutheran Church of the Good Shepherd.
URL:https://www.sunrisebeachschool.org/event/high-school-graduation/
CATEGORIES:High School,Sunrise Beach School
END:VEVENT
BEGIN:VEVENT
DTSTART;VALUE=DATE:20240607
DTEND;VALUE=DATE:20240608
DTSTAMP:20260421T133712
CREATED:20230826T065800Z
LAST-MODIFIED:20230826T065800Z
UID:1554-1717718400-1717804799@www.sunrisebeachschool.org
SUMMARY:Semester 2 Ends
DESCRIPTION:
URL:https://www.sunrisebeachschool.org/event/semester-2-ends/
CATEGORIES:Elementary School,High School,Middle School,Sunrise Beach School
END:VEVENT
BEGIN:VEVENT
DTSTART;TZID=America/Los_Angeles:20240607T090000
DTEND;TZID=America/Los_Angeles:20240607T153000
DTSTAMP:20260421T133712
CREATED:20230826T065700Z
LAST-MODIFIED:20230826T065700Z
UID:1553-1717750800-1717774200@www.sunrisebeachschool.org
SUMMARY:Last Day of School - All Grades
DESCRIPTION:Please plan to pick up your student in their classroom.
URL:https://www.sunrisebeachschool.org/event/last-day-of-school-all-grades/
CATEGORIES:Elementary School,High School,Middle School,Pre-K and Kindergarten,Sunrise Beach School
END:VEVENT
BEGIN:VEVENT
DTSTART;TZID=America/Los_Angeles:20240607T180000
DTEND;TZID=America/Los_Angeles:20240607T203000
DTSTAMP:20260421T133712
CREATED:20230826T065525Z
LAST-MODIFIED:20240726T070727Z
UID:1552-1717783200-1717792200@www.sunrisebeachschool.org
SUMMARY:Commencement & Promotion Ceremonies; Education Fair
DESCRIPTION:
URL:https://www.sunrisebeachschool.org/event/commencement-education-fair/
LOCATION:About Our School
CATEGORIES:Elementary School,High School,Middle School,Pre-K and Kindergarten,Sunrise Beach School
END:VEVENT
BEGIN:VEVENT
DTSTART;TZID=America/Los_Angeles:20240610T090000
DTEND;TZID=America/Los_Angeles:20240612T123000
DTSTAMP:20260421T133712
CREATED:20230826T070022Z
LAST-MODIFIED:20240726T092922Z
UID:1555-1718010000-1718195400@www.sunrisebeachschool.org
SUMMARY:Stanford Achievement Testing - Grades 3 - 11
DESCRIPTION:Please see your lead teacher with questions. Some grades may finish on Tuesday\, 6/11.
URL:https://www.sunrisebeachschool.org/event/stanford-achievement-testing-grades-3-11/
CATEGORIES:Elementary School,High School,Middle School,Sunrise Beach School,Testing
END:VEVENT
BEGIN:VEVENT
DTSTART;VALUE=DATE:20240613
DTEND;VALUE=DATE:20240614
DTSTAMP:20260421T133712
CREATED:20230826T070702Z
LAST-MODIFIED:20240524T165236Z
UID:1557-1718236800-1718323199@www.sunrisebeachschool.org
SUMMARY:All-School Wild Waves Trip! All-School
DESCRIPTION:An annual tradition that has never failed to be an amazing time!\nStudents PK – Grade 5 must be accompanies by a chaperone.\nKindly RSVP by contacting the school office before the last day of school\, though late enrollments will be accepted.
URL:https://www.sunrisebeachschool.org/event/all-school-wild-waves-trip-all-school/
CATEGORIES:Elementary School,High School,Middle School,Pre-K and Kindergarten,Sunrise Beach School
END:VEVENT
BEGIN:VEVENT
DTSTART;VALUE=DATE:20240614
DTEND;VALUE=DATE:20240615
DTSTAMP:20260421T133712
CREATED:20230826T070343Z
LAST-MODIFIED:20240524T165043Z
UID:1556-1718323200-1718409599@www.sunrisebeachschool.org
SUMMARY:Conferences with Principal Mrs. Cox - Optional
DESCRIPTION:Optional and informal conferences\, by appointment only. Please contact the office to schedule\, all are welcome for any discussion.
URL:https://www.sunrisebeachschool.org/event/conferences-with-principal-mrs-cox-optional/
CATEGORIES:Elementary School,High School,Middle School,Pre-K and Kindergarten,Sunrise Beach School
END:VEVENT
BEGIN:VEVENT
DTSTART;VALUE=DATE:20240616
DTEND;VALUE=DATE:20240617
DTSTAMP:20260421T133712
CREATED:20230826T070811Z
LAST-MODIFIED:20230826T070811Z
UID:1558-1718496000-1718582399@www.sunrisebeachschool.org
SUMMARY:Happy Father's Day!
DESCRIPTION:
URL:https://www.sunrisebeachschool.org/event/happy-fathers-day/
CATEGORIES:Sunrise Beach School
END:VEVENT
END:VCALENDAR