BEGIN:VCALENDAR
VERSION:2.0
PRODID:-//Sunrise Beach School - ECPv6.15.20//NONSGML v1.0//EN
CALSCALE:GREGORIAN
METHOD:PUBLISH
X-WR-CALNAME:Sunrise Beach School
X-ORIGINAL-URL:https://www.sunrisebeachschool.org
X-WR-CALDESC:Events for Sunrise Beach School
REFRESH-INTERVAL;VALUE=DURATION:PT1H
X-Robots-Tag:noindex
X-PUBLISHED-TTL:PT1H
BEGIN:VTIMEZONE
TZID:America/Los_Angeles
BEGIN:DAYLIGHT
TZOFFSETFROM:-0800
TZOFFSETTO:-0700
TZNAME:PDT
DTSTART:20220313T100000
END:DAYLIGHT
BEGIN:STANDARD
TZOFFSETFROM:-0700
TZOFFSETTO:-0800
TZNAME:PST
DTSTART:20221106T090000
END:STANDARD
BEGIN:DAYLIGHT
TZOFFSETFROM:-0800
TZOFFSETTO:-0700
TZNAME:PDT
DTSTART:20230312T100000
END:DAYLIGHT
BEGIN:STANDARD
TZOFFSETFROM:-0700
TZOFFSETTO:-0800
TZNAME:PST
DTSTART:20231105T090000
END:STANDARD
BEGIN:DAYLIGHT
TZOFFSETFROM:-0800
TZOFFSETTO:-0700
TZNAME:PDT
DTSTART:20240310T100000
END:DAYLIGHT
BEGIN:STANDARD
TZOFFSETFROM:-0700
TZOFFSETTO:-0800
TZNAME:PST
DTSTART:20241103T090000
END:STANDARD
BEGIN:DAYLIGHT
TZOFFSETFROM:-0800
TZOFFSETTO:-0700
TZNAME:PDT
DTSTART:20250309T100000
END:DAYLIGHT
BEGIN:STANDARD
TZOFFSETFROM:-0700
TZOFFSETTO:-0800
TZNAME:PST
DTSTART:20251102T090000
END:STANDARD
END:VTIMEZONE
BEGIN:VEVENT
DTSTART;TZID=America/Los_Angeles:20231101T111500
DTEND;TZID=America/Los_Angeles:20231101T130000
DTSTAMP:20260422T054537
CREATED:20230825T224112Z
LAST-MODIFIED:20230825T224112Z
UID:1422-1698837300-1698843600@www.sunrisebeachschool.org
SUMMARY:Jog-a-Thon Prize Assembly - All School
DESCRIPTION:Room 205
URL:https://www.sunrisebeachschool.org/event/jog-a-thon-prize-assembly-all-school/
CATEGORIES:Sunrise Beach School
END:VEVENT
BEGIN:VEVENT
DTSTART;TZID=America/Los_Angeles:20231103T060000
DTEND;TZID=America/Los_Angeles:20231103T193000
DTSTAMP:20260422T054537
CREATED:20230825T224410Z
LAST-MODIFIED:20230825T224410Z
UID:1463-1698991200-1699039800@www.sunrisebeachschool.org
SUMMARY:Open House & Smoothie Social
DESCRIPTION:Open House & Smoothie Social “Students as Teachers!” \n6-7:30 pm; \nOrder: Gym\, Upstairs Classrooms\, Gym
URL:https://www.sunrisebeachschool.org/event/open-house-smoothie-social/
CATEGORIES:Elementary School,High School,Middle School,Pre-K and Kindergarten,Sunrise Beach School
END:VEVENT
BEGIN:VEVENT
DTSTART;TZID=America/Los_Angeles:20231107T020000
DTEND;TZID=America/Los_Angeles:20231107T143000
DTSTAMP:20260422T054537
CREATED:20230825T222907Z
LAST-MODIFIED:20230825T222907Z
UID:1461-1699322400-1699367400@www.sunrisebeachschool.org
SUMMARY:Auction Planning Meeting
DESCRIPTION:Room 218
URL:https://www.sunrisebeachschool.org/event/auction-planning-meeting-2/
CATEGORIES:Sunrise Beach School
END:VEVENT
BEGIN:VEVENT
DTSTART;VALUE=DATE:20231110
DTEND;VALUE=DATE:20231111
DTSTAMP:20260422T054537
CREATED:20230825T224634Z
LAST-MODIFIED:20230825T224634Z
UID:1428-1699574400-1699660799@www.sunrisebeachschool.org
SUMMARY:No School - Veteran's Day
DESCRIPTION:
URL:https://www.sunrisebeachschool.org/event/no-school-veterans-day/
CATEGORIES:Elementary School,High School,Middle School,No School,Pre-K and Kindergarten,Sunrise Beach School
END:VEVENT
BEGIN:VEVENT
DTSTART;TZID=America/Los_Angeles:20231114T140000
DTEND;TZID=America/Los_Angeles:20231114T153000
DTSTAMP:20260422T054537
CREATED:20230825T223038Z
LAST-MODIFIED:20230825T223038Z
UID:1417-1699970400-1699975800@www.sunrisebeachschool.org
SUMMARY:Auction Planning Meeting
DESCRIPTION:Room 218
URL:https://www.sunrisebeachschool.org/event/auction-planning-meeting-3/
CATEGORIES:Sunrise Beach School
END:VEVENT
BEGIN:VEVENT
DTSTART;TZID=America/Los_Angeles:20231121T113000
DTEND;TZID=America/Los_Angeles:20231121T180000
DTSTAMP:20260422T054537
CREATED:20230825T225727Z
LAST-MODIFIED:20240729T215238Z
UID:1432-1700566200-1700589600@www.sunrisebeachschool.org
SUMMARY:Early Dismissal
DESCRIPTION:Early Dismissal\, 11:30 am \nConferences\, 11:30 am – 6:00 pm
URL:https://www.sunrisebeachschool.org/event/early-dismissal-2/
CATEGORIES:Early Dismissal,Elementary School,High School,Middle School,Sunrise Beach School
END:VEVENT
BEGIN:VEVENT
DTSTART;VALUE=DATE:20231122
DTEND;VALUE=DATE:20231123
DTSTAMP:20260422T054537
CREATED:20230825T231034Z
LAST-MODIFIED:20230825T231034Z
UID:1464-1700611200-1700697599@www.sunrisebeachschool.org
SUMMARY:No School - Conference Overflow if needed
DESCRIPTION:
URL:https://www.sunrisebeachschool.org/event/no-school-conference-overflow-if-needed-2/
CATEGORIES:Elementary School,High School,Middle School,No School,Pre-K and Kindergarten,Sunrise Beach School
END:VEVENT
BEGIN:VEVENT
DTSTART;VALUE=DATE:20231122
DTEND;VALUE=DATE:20231125
DTSTAMP:20260422T054537
CREATED:20230825T231255Z
LAST-MODIFIED:20230825T231255Z
UID:1465-1700611200-1700870399@www.sunrisebeachschool.org
SUMMARY:Happy Thanksgiving - No School
DESCRIPTION:
URL:https://www.sunrisebeachschool.org/event/happy-thanksgiving-no-school/
CATEGORIES:Elementary School,High School,Middle School,No School,Pre-K and Kindergarten,Sunrise Beach School
END:VEVENT
BEGIN:VEVENT
DTSTART;TZID=America/Los_Angeles:20231128T080000
DTEND;TZID=America/Los_Angeles:20231128T170000
DTSTAMP:20260422T054537
CREATED:20230825T223256Z
LAST-MODIFIED:20230825T223256Z
UID:1462-1701158400-1701190800@www.sunrisebeachschool.org
SUMMARY:Auction Planning Meeting
DESCRIPTION:Room 218
URL:https://www.sunrisebeachschool.org/event/auction-planning-meeting-4/
CATEGORIES:Sunrise Beach School
END:VEVENT
BEGIN:VEVENT
DTSTART;VALUE=DATE:20231130
DTEND;VALUE=DATE:20231201
DTSTAMP:20260422T054537
CREATED:20230825T231608Z
LAST-MODIFIED:20240726T092646Z
UID:1466-1701302400-1701388799@www.sunrisebeachschool.org
SUMMARY:High School ASB Meeting
DESCRIPTION:Room 219 \nASB Meeting \n12:00 noon \nPrep for Homecoming Dance
URL:https://www.sunrisebeachschool.org/event/high-school-asb-meeting/
CATEGORIES:ASB Meetings,High School,Middle School,Sunrise Beach School
END:VEVENT
BEGIN:VEVENT
DTSTART;TZID=America/Los_Angeles:20231202T190000
DTEND;TZID=America/Los_Angeles:20231202T220000
DTSTAMP:20260422T054537
CREATED:20230825T232011Z
LAST-MODIFIED:20230825T232011Z
UID:1441-1701543600-1701554400@www.sunrisebeachschool.org
SUMMARY:High School Homecoming- Ballroom Dance
DESCRIPTION:7-10:00 pm \nGymnasium
URL:https://www.sunrisebeachschool.org/event/high-school-homecoming-ballroom-dance/
CATEGORIES:High School,Sunrise Beach School
END:VEVENT
BEGIN:VEVENT
DTSTART;VALUE=DATE:20231204
DTEND;VALUE=DATE:20231209
DTSTAMP:20260422T054537
CREATED:20230825T232739Z
LAST-MODIFIED:20230825T232739Z
UID:1468-1701648000-1702079999@www.sunrisebeachschool.org
SUMMARY:All School Spirit Week: Monday - Friday
DESCRIPTION:Please see your lead teacher for daily Spirit Week themes! We go all out!
URL:https://www.sunrisebeachschool.org/event/all-school-spirit-week-monday-friday/
CATEGORIES:Elementary School,High School,Middle School,Pre-K and Kindergarten,Sunrise Beach School
END:VEVENT
BEGIN:VEVENT
DTSTART;TZID=America/Los_Angeles:20231208T180000
DTEND;TZID=America/Los_Angeles:20231208T200000
DTSTAMP:20260422T054537
CREATED:20230825T232223Z
LAST-MODIFIED:20231026T071742Z
UID:1467-1702058400-1702065600@www.sunrisebeachschool.org
SUMMARY:Christmas Program & Concert - All School and Families
DESCRIPTION:  \n  \n  \n  \n  \n  \nChristmas Program \nChristmas Play: Camel Lot  (a musical featuring our elementary students\, with help from MS and HS).  \n\n\n(Note: Our Dessert Theater in the spring will feature MS and HS students\, with choral and other assistance from the elementary students).\n\nStart Time: 6:00 pm – School Gymnasium\nPresentations:\n\nORFF Instruments\, Grades PK-2\nOrchestra\, Grades 3-12\nHandbell Choir\, Grades 9-12\nPrivate Music Instructors’ Recitals\, Grades PK-12
URL:https://www.sunrisebeachschool.org/event/christmas-program-and-concert-all-school-and-families/
LOCATION:Sunrise Beach School
CATEGORIES:Elementary School,High School,Middle School,Pre-K and Kindergarten,Sunrise Beach School
ATTACH;FMTTYPE=image/webp:https://www.sunrisebeachschool.org/wp-content/uploads/2023/08/IMG_1839.webp
END:VEVENT
BEGIN:VEVENT
DTSTART;VALUE=DATE:20231214
DTEND;VALUE=DATE:20240103
DTSTAMP:20260422T054537
CREATED:20230825T232907Z
LAST-MODIFIED:20230825T232907Z
UID:1469-1702512000-1704239999@www.sunrisebeachschool.org
SUMMARY:No School - Christmas Break
DESCRIPTION:
URL:https://www.sunrisebeachschool.org/event/no-school-christmas-break/
CATEGORIES:Elementary School,High School,Middle School,No School,Pre-K and Kindergarten,Sunrise Beach School
END:VEVENT
BEGIN:VEVENT
DTSTART;VALUE=DATE:20240103
DTEND;VALUE=DATE:20240104
DTSTAMP:20260422T054537
CREATED:20230825T233048Z
LAST-MODIFIED:20230825T233048Z
UID:1470-1704240000-1704326399@www.sunrisebeachschool.org
SUMMARY:School Resumes
DESCRIPTION:
URL:https://www.sunrisebeachschool.org/event/school-resumes/
CATEGORIES:Elementary School,High School,Middle School,No School,Pre-K and Kindergarten,Sunrise Beach School
END:VEVENT
BEGIN:VEVENT
DTSTART;TZID=America/Los_Angeles:20240109T140000
DTEND;TZID=America/Los_Angeles:20240109T153000
DTSTAMP:20260422T054537
CREATED:20230825T233341Z
LAST-MODIFIED:20230825T233341Z
UID:1471-1704808800-1704814200@www.sunrisebeachschool.org
SUMMARY:Auction Planning Meeting
DESCRIPTION:Every Tuesday\, 1/9\, 1/16\, 1/23\, 1/30/2024 \nRoom 218\, 2:00 pm
URL:https://www.sunrisebeachschool.org/event/auction-planning-meeting-5/
CATEGORIES:Elementary School,High School,Middle School,Pre-K and Kindergarten,Sunrise Beach School
END:VEVENT
BEGIN:VEVENT
DTSTART;VALUE=DATE:20240115
DTEND;VALUE=DATE:20240116
DTSTAMP:20260422T054537
CREATED:20230825T233524Z
LAST-MODIFIED:20230825T233524Z
UID:1472-1705276800-1705363199@www.sunrisebeachschool.org
SUMMARY:No School - Celebrating Martin Luther King Jr.
DESCRIPTION:
URL:https://www.sunrisebeachschool.org/event/no-school-celebrating-martin-luther-king-jr/
CATEGORIES:Elementary School,High School,Middle School,No School,Pre-K and Kindergarten,Sunrise Beach School
END:VEVENT
BEGIN:VEVENT
DTSTART;VALUE=DATE:20240116
DTEND;VALUE=DATE:20240120
DTSTAMP:20260422T054537
CREATED:20230825T234023Z
LAST-MODIFIED:20230825T234023Z
UID:1475-1705363200-1705708799@www.sunrisebeachschool.org
SUMMARY:Finals Week for Middle and High School Students
DESCRIPTION:No schedule changes.
URL:https://www.sunrisebeachschool.org/event/finals-week-for-middle-and-high-school-students/
CATEGORIES:High School,Middle School,Sunrise Beach School
END:VEVENT
BEGIN:VEVENT
DTSTART;TZID=America/Los_Angeles:20240116T140000
DTEND;TZID=America/Los_Angeles:20240116T153000
DTSTAMP:20260422T054537
CREATED:20230825T233726Z
LAST-MODIFIED:20230825T233726Z
UID:1473-1705413600-1705419000@www.sunrisebeachschool.org
SUMMARY:Auction Planning Meeting
DESCRIPTION:Every Tuesday\, 2:00 pm\, Room 218
URL:https://www.sunrisebeachschool.org/event/auction-planning-meeting-6/
CATEGORIES:Elementary School,High School,Middle School,Pre-K and Kindergarten,Sunrise Beach School
END:VEVENT
BEGIN:VEVENT
DTSTART;TZID=America/Los_Angeles:20240119T113000
DTEND;TZID=America/Los_Angeles:20240119T123000
DTSTAMP:20260422T054537
CREATED:20230825T233916Z
LAST-MODIFIED:20230825T233916Z
UID:1474-1705663800-1705667400@www.sunrisebeachschool.org
SUMMARY:New Year International Celebration - All Welcome!
DESCRIPTION:Potluck Luncheon – Please contact your lead teacher for more information \nGymnasium\, 11:30 – 12:30 pm
URL:https://www.sunrisebeachschool.org/event/new-year-international-celebration-all-welcome/
CATEGORIES:Elementary School,High School,Middle School,No School,Pre-K and Kindergarten,Sunrise Beach School
END:VEVENT
BEGIN:VEVENT
DTSTART;TZID=America/Los_Angeles:20240125T120000
DTEND;TZID=America/Los_Angeles:20240125T130000
DTSTAMP:20260422T054537
CREATED:20230825T234307Z
LAST-MODIFIED:20240726T092646Z
UID:1476-1706184000-1706187600@www.sunrisebeachschool.org
SUMMARY:ASB Meeting and Lunch
DESCRIPTION:Grades 6-12\n12:00 noon\nRoom 219
URL:https://www.sunrisebeachschool.org/event/asb-meeting-and-lunch/
CATEGORIES:ASB Meetings,High School,Middle School,Sunrise Beach School
END:VEVENT
BEGIN:VEVENT
DTSTART;VALUE=DATE:20240126
DTEND;VALUE=DATE:20240127
DTSTAMP:20260422T054537
CREATED:20230825T234429Z
LAST-MODIFIED:20230825T234429Z
UID:1477-1706227200-1706313599@www.sunrisebeachschool.org
SUMMARY:End of Fall Semester (And Quarter 2)
DESCRIPTION:
URL:https://www.sunrisebeachschool.org/event/end-of-fall-semester-and-quarter-2/
CATEGORIES:Elementary School,High School,Middle School,Pre-K and Kindergarten,Sunrise Beach School
END:VEVENT
BEGIN:VEVENT
DTSTART;VALUE=DATE:20240201
DTEND;VALUE=DATE:20240202
DTSTAMP:20260422T054537
CREATED:20230825T234530Z
LAST-MODIFIED:20230825T234530Z
UID:1478-1706745600-1706831999@www.sunrisebeachschool.org
SUMMARY:First Day of Second Semester
DESCRIPTION:
URL:https://www.sunrisebeachschool.org/event/first-day-of-second-semester/
CATEGORIES:Elementary School,High School,Middle School,Pre-K and Kindergarten,Sunrise Beach School
END:VEVENT
BEGIN:VEVENT
DTSTART;VALUE=DATE:20240201
DTEND;VALUE=DATE:20240202
DTSTAMP:20260422T054537
CREATED:20230825T234855Z
LAST-MODIFIED:20230825T234855Z
UID:1479-1706745600-1706831999@www.sunrisebeachschool.org
SUMMARY:Talent Show Auditions Begin
DESCRIPTION:Contact your lead teacher for more information about specific classroom’s auditions.
URL:https://www.sunrisebeachschool.org/event/fall-2024-registration/
CATEGORIES:Elementary School,High School,Middle School,Pre-K and Kindergarten,Sunrise Beach School
END:VEVENT
BEGIN:VEVENT
DTSTART;VALUE=DATE:20240202
DTEND;VALUE=DATE:20240203
DTSTAMP:20260422T054537
CREATED:20230825T235127Z
LAST-MODIFIED:20230825T235127Z
UID:1480-1706832000-1706918399@www.sunrisebeachschool.org
SUMMARY:Fall Semester Grades Submitted from Teachers
DESCRIPTION:
URL:https://www.sunrisebeachschool.org/event/fall-semester-grades-submitted-from-teachers/
CATEGORIES:Elementary School,High School,Middle School,Pre-K and Kindergarten,Sunrise Beach School
END:VEVENT
BEGIN:VEVENT
DTSTART;VALUE=DATE:20240202
DTEND;VALUE=DATE:20240203
DTSTAMP:20260422T054537
CREATED:20230826T001511Z
LAST-MODIFIED:20230826T001511Z
UID:1495-1706832000-1706918399@www.sunrisebeachschool.org
SUMMARY:Semester Grades Due
DESCRIPTION:
URL:https://www.sunrisebeachschool.org/event/semester-grades-due/
CATEGORIES:Sunrise Beach School
END:VEVENT
BEGIN:VEVENT
DTSTART;VALUE=DATE:20240206
DTEND;VALUE=DATE:20240228
DTSTAMP:20260422T054537
CREATED:20230825T235344Z
LAST-MODIFIED:20230825T235344Z
UID:1481-1707177600-1709078399@www.sunrisebeachschool.org
SUMMARY:Auction Meetings: Tuesdays in February: 6\, 13\, 20\, and 27
DESCRIPTION:2:00 pm – Room 218
URL:https://www.sunrisebeachschool.org/event/auction-meetings-tuesdays-in-february-6-13-20-and-27/
CATEGORIES:Elementary School,High School,Middle School,Pre-K and Kindergarten,Sunrise Beach School
END:VEVENT
BEGIN:VEVENT
DTSTART;VALUE=DATE:20240214
DTEND;VALUE=DATE:20240215
DTSTAMP:20260422T054537
CREATED:20230825T235502Z
LAST-MODIFIED:20230825T235502Z
UID:1482-1707868800-1707955199@www.sunrisebeachschool.org
SUMMARY:Valentine's Day Parties
DESCRIPTION:Please see your lead teacher for more information about specific classroom events.
URL:https://www.sunrisebeachschool.org/event/valentines-day-parties/
CATEGORIES:Elementary School,High School,Middle School,Pre-K and Kindergarten,Sunrise Beach School
END:VEVENT
BEGIN:VEVENT
DTSTART;VALUE=DATE:20240216
DTEND;VALUE=DATE:20240220
DTSTAMP:20260422T054537
CREATED:20230825T235643Z
LAST-MODIFIED:20230825T235643Z
UID:1483-1708041600-1708387199@www.sunrisebeachschool.org
SUMMARY:No School - President's Day Holiday
DESCRIPTION:
URL:https://www.sunrisebeachschool.org/event/no-school-presidents-day-holiday/
CATEGORIES:Elementary School,High School,Middle School,No School,Pre-K and Kindergarten,Sunrise Beach School
END:VEVENT
BEGIN:VEVENT
DTSTART;TZID=America/Los_Angeles:20240222T120000
DTEND;TZID=America/Los_Angeles:20240222T130000
DTSTAMP:20260422T054537
CREATED:20230825T235830Z
LAST-MODIFIED:20240726T092646Z
UID:1484-1708603200-1708606800@www.sunrisebeachschool.org
SUMMARY:ASB Meeting & Lunch
DESCRIPTION:Grades 6-12\n12:00 noon\nRoom 219
URL:https://www.sunrisebeachschool.org/event/asb-meeting-lunch/
CATEGORIES:ASB Meetings,High School,Middle School,Sunrise Beach School
END:VEVENT
END:VCALENDAR