BEGIN:VCALENDAR
VERSION:2.0
PRODID:-//Sunrise Beach School - ECPv6.15.20//NONSGML v1.0//EN
CALSCALE:GREGORIAN
METHOD:PUBLISH
X-WR-CALNAME:Sunrise Beach School
X-ORIGINAL-URL:https://www.sunrisebeachschool.org
X-WR-CALDESC:Events for Sunrise Beach School
REFRESH-INTERVAL;VALUE=DURATION:PT1H
X-Robots-Tag:noindex
X-PUBLISHED-TTL:PT1H
BEGIN:VTIMEZONE
TZID:America/Los_Angeles
BEGIN:DAYLIGHT
TZOFFSETFROM:-0800
TZOFFSETTO:-0700
TZNAME:PDT
DTSTART:20230312T100000
END:DAYLIGHT
BEGIN:STANDARD
TZOFFSETFROM:-0700
TZOFFSETTO:-0800
TZNAME:PST
DTSTART:20231105T090000
END:STANDARD
BEGIN:DAYLIGHT
TZOFFSETFROM:-0800
TZOFFSETTO:-0700
TZNAME:PDT
DTSTART:20240310T100000
END:DAYLIGHT
BEGIN:STANDARD
TZOFFSETFROM:-0700
TZOFFSETTO:-0800
TZNAME:PST
DTSTART:20241103T090000
END:STANDARD
BEGIN:DAYLIGHT
TZOFFSETFROM:-0800
TZOFFSETTO:-0700
TZNAME:PDT
DTSTART:20250309T100000
END:DAYLIGHT
BEGIN:STANDARD
TZOFFSETFROM:-0700
TZOFFSETTO:-0800
TZNAME:PST
DTSTART:20251102T090000
END:STANDARD
BEGIN:DAYLIGHT
TZOFFSETFROM:-0800
TZOFFSETTO:-0700
TZNAME:PDT
DTSTART:20260308T100000
END:DAYLIGHT
BEGIN:STANDARD
TZOFFSETFROM:-0700
TZOFFSETTO:-0800
TZNAME:PST
DTSTART:20261101T090000
END:STANDARD
END:VTIMEZONE
BEGIN:VEVENT
DTSTART;TZID=America/Los_Angeles:20240829T180000
DTEND;TZID=America/Los_Angeles:20240829T193000
DTSTAMP:20260421T165448
CREATED:20240724T072534Z
LAST-MODIFIED:20240729T180722Z
UID:1957-1724954400-1724959800@www.sunrisebeachschool.org
SUMMARY:Back to School Night and Official Class Registration
DESCRIPTION:Meet Teachers\, Staff\, Students\nHigh School: Submit Official Class Registration to Hold Classroom Seats\nSunrise Spiritwear Sign-Up
URL:https://www.sunrisebeachschool.org/event/back-to-school-night-and-official-class-registration/
LOCATION:Sunrise Beach School
CATEGORIES:Elementary School,High School,Middle School,Parents & Guardians,Pre-K and Kindergarten,Sunrise Beach School
END:VEVENT
BEGIN:VEVENT
DTSTART;VALUE=DATE:20240904
DTEND;VALUE=DATE:20240905
DTSTAMP:20260421T165448
CREATED:20240724T072534Z
LAST-MODIFIED:20240726T071423Z
UID:1964-1725408000-1725494399@www.sunrisebeachschool.org
SUMMARY:First Day of School - Welcome!
DESCRIPTION:We have been planning and preparing and are thrilled to welcome our 2024-2025 Sunrise Beach School Students! \nSchool Starting times: \n\n8:30 am for Middle and High School Students\n9:00 am for Elementary and Pre-K Students\n8:45 am – Welcome meeting: Middle and High School Students and Staff\n\n 
URL:https://www.sunrisebeachschool.org/event/first-day-of-school-welcome/
LOCATION:Sunrise Beach School
CATEGORIES:Parents & Guardians,Sunrise Beach School
END:VEVENT
BEGIN:VEVENT
DTSTART;TZID=America/Los_Angeles:20240925T080000
DTEND;TZID=America/Los_Angeles:20240925T170000
DTSTAMP:20260421T165448
CREATED:20240724T072534Z
LAST-MODIFIED:20240724T072534Z
UID:1975-1727251200-1727283600@www.sunrisebeachschool.org
SUMMARY:First "See You at the Pole" School Worship - Student Led Chapel
DESCRIPTION:
URL:https://www.sunrisebeachschool.org/event/first-see-you-at-the-pole-school-worship-student-led-chapel/
CATEGORIES:Sunrise Beach School
END:VEVENT
BEGIN:VEVENT
DTSTART;VALUE=DATE:20240926
DTEND;VALUE=DATE:20240927
DTSTAMP:20260421T165448
CREATED:20240724T072534Z
LAST-MODIFIED:20240726T092646Z
UID:1977-1727308800-1727395199@www.sunrisebeachschool.org
SUMMARY:ASB Speeches - Followed by ASB/Class Office Elections
DESCRIPTION:Middle School = 11:30 am; \nHigh School = 12:00 noon \nRoom 219
URL:https://www.sunrisebeachschool.org/event/asb-speeches-followed-by-asb-class-office-elections/
CATEGORIES:ASB Meetings,High School,Middle School,Sunrise Beach School
END:VEVENT
BEGIN:VEVENT
DTSTART;TZID=America/Los_Angeles:20241001T140000
DTEND;TZID=America/Los_Angeles:20241001T150000
DTSTAMP:20260421T165448
CREATED:20240724T072534Z
LAST-MODIFIED:20240724T072534Z
UID:1979-1727791200-1727794800@www.sunrisebeachschool.org
SUMMARY:Auction 2025 - Kick-Off Meetings - Room 218
DESCRIPTION:We Need Your Help! Thank You! \nOnline Meetings Also Available
URL:https://www.sunrisebeachschool.org/event/auction-2025-kick-off-meetings-room-218/
CATEGORIES:Parents & Guardians,Sunrise Beach School
END:VEVENT
BEGIN:VEVENT
DTSTART;VALUE=DATE:20241007
DTEND;VALUE=DATE:20241008
DTSTAMP:20260421T165448
CREATED:20240724T072534Z
LAST-MODIFIED:20240724T072534Z
UID:1983-1728259200-1728345599@www.sunrisebeachschool.org
SUMMARY:All Student and Staff Picture Day\, 12:30 - 3:30 pm
DESCRIPTION:Gym (120) \nALL Students and Staff \nPlease see Picture Purchasing Forms being sent home with students in September. Contact the Office to collect a form if one did not make it home.
URL:https://www.sunrisebeachschool.org/event/all-student-and-staff-picture-day-1230-330-pm/
LOCATION:Sunrise Beach School
CATEGORIES:Parents & Guardians,Sunrise Beach School
END:VEVENT
BEGIN:VEVENT
DTSTART;TZID=America/Los_Angeles:20241008T080000
DTEND;TZID=America/Los_Angeles:20241008T140000
DTSTAMP:20260421T165448
CREATED:20240724T074432Z
LAST-MODIFIED:20240726T092922Z
UID:1988-1728374400-1728396000@www.sunrisebeachschool.org
SUMMARY:College Board PSAT Test
DESCRIPTION:HS Grades 10-11\, \n8:00 am\, \nRoom TBA
URL:https://www.sunrisebeachschool.org/event/college-board-psat-test/
CATEGORIES:High School,Sunrise Beach School,Testing
END:VEVENT
BEGIN:VEVENT
DTSTART;TZID=America/Los_Angeles:20241016T100000
DTEND;TZID=America/Los_Angeles:20241016T130000
DTSTAMP:20260421T165448
CREATED:20240724T074432Z
LAST-MODIFIED:20240724T074432Z
UID:1992-1729072800-1729083600@www.sunrisebeachschool.org
SUMMARY:Jog-A-Thon (Please bring clothing and shoes as needed)
DESCRIPTION:10:00 am\, Gymnasium
URL:https://www.sunrisebeachschool.org/event/jog-a-thon-please-bring-clothing-and-shoes-as-needed/
CATEGORIES:Sunrise Beach School
END:VEVENT
BEGIN:VEVENT
DTSTART;VALUE=DATE:20241017
DTEND;VALUE=DATE:20241018
DTSTAMP:20260421T165448
CREATED:20240820T072747Z
LAST-MODIFIED:20240820T072747Z
UID:2536-1729123200-1729209599@www.sunrisebeachschool.org
SUMMARY:All Staff Training- AI in the Classroom and Beyond
DESCRIPTION: 
URL:https://www.sunrisebeachschool.org/event/all-staff-training-ai-in-the-classroom-and-beyond/
LOCATION:Sunrise Beach School
CATEGORIES:Staff Only,Sunrise Beach School
END:VEVENT
BEGIN:VEVENT
DTSTART;TZID=America/Los_Angeles:20241030T111500
DTEND;TZID=America/Los_Angeles:20241030T120000
DTSTAMP:20260421T165448
CREATED:20240724T074431Z
LAST-MODIFIED:20240726T055219Z
UID:1999-1730286900-1730289600@www.sunrisebeachschool.org
SUMMARY:Jog-a-Thon Prize Assembly - Room 205
DESCRIPTION:Room 205 \n11:15 am – All School
URL:https://www.sunrisebeachschool.org/event/jog-a-thon-prize-assembly-room-205/
CATEGORIES:Sunrise Beach School
END:VEVENT
BEGIN:VEVENT
DTSTART;VALUE=DATE:20241031
DTEND;VALUE=DATE:20241101
DTSTAMP:20260421T165448
CREATED:20240724T074431Z
LAST-MODIFIED:20240724T074431Z
UID:2001-1730332800-1730419199@www.sunrisebeachschool.org
SUMMARY:Harvest Parties
DESCRIPTION:Costumes should be Fun/Joyful – Non-Scary \n\nTug of War\, Three-Legged Races\, and More.
URL:https://www.sunrisebeachschool.org/event/harvest-parties/
CATEGORIES:Sunrise Beach School
END:VEVENT
BEGIN:VEVENT
DTSTART;VALUE=DATE:20241101
DTEND;VALUE=DATE:20241102
DTSTAMP:20260421T165448
CREATED:20240726T055711Z
LAST-MODIFIED:20240726T055711Z
UID:2020-1730419200-1730505599@www.sunrisebeachschool.org
SUMMARY:First Quarter Ends\, Grades Due: 11/8
DESCRIPTION:
URL:https://www.sunrisebeachschool.org/event/first-quarter-ends-grades-due-11-8/
CATEGORIES:Sunrise Beach School
END:VEVENT
BEGIN:VEVENT
DTSTART;TZID=America/Los_Angeles:20241101T180000
DTEND;TZID=America/Los_Angeles:20241101T193000
DTSTAMP:20260421T165448
CREATED:20240726T055543Z
LAST-MODIFIED:20240726T055543Z
UID:2018-1730484000-1730489400@www.sunrisebeachschool.org
SUMMARY:Open House & Smoothie Social
DESCRIPTION:Open House & Smoothie Social\, 6:00-7:30 pm \n“Students = Teachers\,” Students as Teachers! \nPresentation Order: Gym\, Upstairs Classrooms\, Return to Gym
URL:https://www.sunrisebeachschool.org/event/open-house-smoothie-social-2/
LOCATION:Sunrise Beach School
CATEGORIES:Parents & Guardians,Sunrise Beach School
END:VEVENT
BEGIN:VEVENT
DTSTART;VALUE=DATE:20241111
DTEND;VALUE=DATE:20241112
DTSTAMP:20260421T165448
CREATED:20240726T063930Z
LAST-MODIFIED:20240726T063930Z
UID:2024-1731283200-1731369599@www.sunrisebeachschool.org
SUMMARY:Veteran's Day - No School
DESCRIPTION:
URL:https://www.sunrisebeachschool.org/event/veterans-day-no-school/
CATEGORIES:No School,Sunrise Beach School
END:VEVENT
BEGIN:VEVENT
DTSTART;VALUE=DATE:20241126
DTEND;VALUE=DATE:20241127
DTSTAMP:20260421T165448
CREATED:20240726T063930Z
LAST-MODIFIED:20240729T215238Z
UID:2028-1732579200-1732665599@www.sunrisebeachschool.org
SUMMARY:Early Dismissal-Elementary
DESCRIPTION:
URL:https://www.sunrisebeachschool.org/event/early-dismissal-elementary/
CATEGORIES:Early Dismissal,Elementary School,Sunrise Beach School
END:VEVENT
BEGIN:VEVENT
DTSTART;VALUE=DATE:20241126
DTEND;VALUE=DATE:20241128
DTSTAMP:20260421T165448
CREATED:20240726T063930Z
LAST-MODIFIED:20240726T063930Z
UID:2032-1732579200-1732751999@www.sunrisebeachschool.org
SUMMARY:Middle School and High School Parent Teacher Conferences
DESCRIPTION:
URL:https://www.sunrisebeachschool.org/event/middle-school-and-high-school-parent-teacher-conferences/
LOCATION:Sunrise Beach School
CATEGORIES:High School,Middle School,Parents & Guardians,Sunrise Beach School
END:VEVENT
BEGIN:VEVENT
DTSTART;VALUE=DATE:20241126
DTEND;VALUE=DATE:20241128
DTSTAMP:20260421T165448
CREATED:20240726T063930Z
LAST-MODIFIED:20240726T063930Z
UID:2030-1732579200-1732751999@www.sunrisebeachschool.org
SUMMARY:No School - Conferences
DESCRIPTION:
URL:https://www.sunrisebeachschool.org/event/no-school-conferences/
CATEGORIES:Elementary School,High School,Middle School,No School,Parents & Guardians,Pre-K and Kindergarten,Sunrise Beach School
END:VEVENT
BEGIN:VEVENT
DTSTART;VALUE=DATE:20241128
DTEND;VALUE=DATE:20241130
DTSTAMP:20260421T165448
CREATED:20240726T063930Z
LAST-MODIFIED:20240726T063930Z
UID:2034-1732752000-1732924799@www.sunrisebeachschool.org
SUMMARY:Thanksgiving - No School Thursday and Friday
DESCRIPTION:Thanksgiving – No School Thursday and Friday – “May You Have a Blessed Day of Thanks.”
URL:https://www.sunrisebeachschool.org/event/thanksgiving-no-school-thursday-and-friday/
CATEGORIES:No School,Sunrise Beach School
END:VEVENT
BEGIN:VEVENT
DTSTART;VALUE=DATE:20241209
DTEND;VALUE=DATE:20241214
DTSTAMP:20260421T165448
CREATED:20240726T065351Z
LAST-MODIFIED:20241210T074545Z
UID:2058-1733702400-1734134399@www.sunrisebeachschool.org
SUMMARY:All School - Spirit Week\, Monday through Friday
DESCRIPTION:Please see the Spirit Week flier!
URL:https://www.sunrisebeachschool.org/event/all-school-spirit-week-monday-through-friday/
LOCATION:Sunrise Beach School
CATEGORIES:Birthday,Parents & Guardians,Pre-K and Kindergarten,Sunrise Beach School,Testing
ATTACH;FMTTYPE=image/png:https://www.sunrisebeachschool.org/wp-content/uploads/2024/07/Christmas.png
END:VEVENT
BEGIN:VEVENT
DTSTART;VALUE=DATE:20241213
DTEND;VALUE=DATE:20241214
DTSTAMP:20260421T165448
CREATED:20240726T065351Z
LAST-MODIFIED:20240729T215238Z
UID:2054-1734048000-1734134399@www.sunrisebeachschool.org
SUMMARY:All School - Early Dismissal - 11:30 am
DESCRIPTION:
URL:https://www.sunrisebeachschool.org/event/all-school-early-dismissal-1130-am/
CATEGORIES:Early Dismissal,Sunrise Beach School
END:VEVENT
BEGIN:VEVENT
DTSTART;VALUE=DATE:20241213
DTEND;VALUE=DATE:20241214
DTSTAMP:20260421T165448
CREATED:20241210T081651Z
LAST-MODIFIED:20241210T081651Z
UID:2834-1734048000-1734134399@www.sunrisebeachschool.org
SUMMARY:The Secret of Snowflake County: Scripts and Cast List Available!
DESCRIPTION:The Christmas Play Script and Cast list are available for download\, below!\nGo to the event itself\, here! \nThe Secret of Snowflake County KIDS SCRIPT \nSnowFlake County- CAST LIST
URL:https://www.sunrisebeachschool.org/event/the-secret-of-snowflake-county-scripts-and-cast-list-available/
CATEGORIES:ASB Meetings,Birthday,Early Dismissal,Elementary School,High School,Middle School,Parents & Guardians,Pre-K and Kindergarten,Staff Only,Sunrise Beach School,Testing
END:VEVENT
BEGIN:VEVENT
DTSTART;TZID=America/Los_Angeles:20241213T180000
DTEND;TZID=America/Los_Angeles:20241213T203000
DTSTAMP:20260421T165448
CREATED:20240726T065351Z
LAST-MODIFIED:20241210T080513Z
UID:2056-1734112800-1734121800@www.sunrisebeachschool.org
SUMMARY:Christmas Program: The Secret of Snowflake County
DESCRIPTION:Calvary Chapel – 919 Division St NW – Olympia\, WA  98502 \nDec. 13 Friday: Evening – Christmas Concert and Play \nThe Secret of Snowflake County \nLocation:  Calvary Chapel – 919 Division St NW – Olympia\, WA 98502 \nStart Time: 6 pm \nNOTE: Cast arrival times to be announced by Pam Wagner\, Drama Director
URL:https://www.sunrisebeachschool.org/event/christmas-program-and-concert-600-pm-gymnasium/
LOCATION:Calvary Chapel\, Olympia\, 919 Division St NW\, Olympia\, WA\, 98512
CATEGORIES:ASB Meetings,Auction,Birthday,Early Dismissal,Elementary School,High School,Middle School,No School,Parents & Guardians,Pre-K and Kindergarten,Staff Only,Sunrise Beach School,Testing
END:VEVENT
BEGIN:VEVENT
DTSTART;VALUE=DATE:20241218
DTEND;VALUE=DATE:20250104
DTSTAMP:20260421T165448
CREATED:20240726T065351Z
LAST-MODIFIED:20240726T065351Z
UID:2060-1734480000-1735948799@www.sunrisebeachschool.org
SUMMARY:Christmas Break - No School
DESCRIPTION:
URL:https://www.sunrisebeachschool.org/event/christmas-break-no-school/
CATEGORIES:No School,Sunrise Beach School
END:VEVENT
BEGIN:VEVENT
DTSTART;VALUE=DATE:20241225
DTEND;VALUE=DATE:20241226
DTSTAMP:20260421T165448
CREATED:20240726T065351Z
LAST-MODIFIED:20240726T092835Z
UID:2062-1735084800-1735171199@www.sunrisebeachschool.org
SUMMARY:Christmas Day - Happy Birthday\, Jesus!
DESCRIPTION:
URL:https://www.sunrisebeachschool.org/event/christmas-day-happy-birthday-jesus/
CATEGORIES:Birthday,Sunrise Beach School
END:VEVENT
BEGIN:VEVENT
DTSTART;VALUE=DATE:20241231
DTEND;VALUE=DATE:20250101
DTSTAMP:20260421T165448
CREATED:20240726T065351Z
LAST-MODIFIED:20240726T065351Z
UID:2064-1735603200-1735689599@www.sunrisebeachschool.org
SUMMARY:New Year's Eve
DESCRIPTION:Sending prayers for our students\, families\, and staff today and in the coming new year!
URL:https://www.sunrisebeachschool.org/event/new-years-eve/
CATEGORIES:Sunrise Beach School
END:VEVENT
BEGIN:VEVENT
DTSTART;VALUE=DATE:20250101
DTEND;VALUE=DATE:20250104
DTSTAMP:20260421T165448
CREATED:20240726T065351Z
LAST-MODIFIED:20240726T065351Z
UID:2066-1735689600-1735948799@www.sunrisebeachschool.org
SUMMARY:No School - Winter Break
DESCRIPTION:
URL:https://www.sunrisebeachschool.org/event/no-school-winter-break/
CATEGORIES:No School,Sunrise Beach School
END:VEVENT
BEGIN:VEVENT
DTSTART;VALUE=DATE:20250106
DTEND;VALUE=DATE:20250107
DTSTAMP:20260421T165448
CREATED:20240726T065351Z
LAST-MODIFIED:20240726T065351Z
UID:2068-1736121600-1736207999@www.sunrisebeachschool.org
SUMMARY:First Day of School of 2025
DESCRIPTION:
URL:https://www.sunrisebeachschool.org/event/first-day-of-school-of-2025/
CATEGORIES:Sunrise Beach School
END:VEVENT
BEGIN:VEVENT
DTSTART;VALUE=DATE:20250211
DTEND;VALUE=DATE:20250212
DTSTAMP:20260421T165448
CREATED:20240726T092307Z
LAST-MODIFIED:20240726T092835Z
UID:2102-1739232000-1739318399@www.sunrisebeachschool.org
SUMMARY:Mrs. Mary Wholers Birthday
DESCRIPTION:Birthday
URL:https://www.sunrisebeachschool.org/event/mrs-mary-wholers-birthday/
LOCATION:Sunrise Beach School
CATEGORIES:Birthday,Sunrise Beach School
END:VEVENT
BEGIN:VEVENT
DTSTART;VALUE=DATE:20250216
DTEND;VALUE=DATE:20250217
DTSTAMP:20260421T165448
CREATED:20240726T092307Z
LAST-MODIFIED:20240726T092835Z
UID:2103-1739664000-1739750399@www.sunrisebeachschool.org
SUMMARY:Mr. Reuben Watson's Birthday!
DESCRIPTION:Birthday
URL:https://www.sunrisebeachschool.org/event/mr-reuben-watsons-birthday/
LOCATION:Sunrise Beach School
CATEGORIES:Birthday,Sunrise Beach School
END:VEVENT
BEGIN:VEVENT
DTSTART;TZID=America/Los_Angeles:20250220T120000
DTEND;TZID=America/Los_Angeles:20250220T120000
DTSTAMP:20260421T165448
CREATED:20240726T092307Z
LAST-MODIFIED:20240726T092646Z
UID:2100-1740052800-1740052800@www.sunrisebeachschool.org
SUMMARY:ASB Meeting/Lunch - Grades 6-12\, 12:00 noon\, Room 219
DESCRIPTION:ASB
URL:https://www.sunrisebeachschool.org/event/asb-meeting-lunch-grades-6-12-1200-noon-room-219/
LOCATION:Sunrise Beach School
CATEGORIES:ASB Meetings,High School,Middle School,Sunrise Beach School
END:VEVENT
END:VCALENDAR