BEGIN:VCALENDAR
VERSION:2.0
PRODID:-//Sunrise Beach School - ECPv6.15.20//NONSGML v1.0//EN
CALSCALE:GREGORIAN
METHOD:PUBLISH
X-ORIGINAL-URL:https://www.sunrisebeachschool.org
X-WR-CALDESC:Events for Sunrise Beach School
REFRESH-INTERVAL;VALUE=DURATION:PT1H
X-Robots-Tag:noindex
X-PUBLISHED-TTL:PT1H
BEGIN:VTIMEZONE
TZID:America/Los_Angeles
BEGIN:DAYLIGHT
TZOFFSETFROM:-0800
TZOFFSETTO:-0700
TZNAME:PDT
DTSTART:20240310T100000
END:DAYLIGHT
BEGIN:STANDARD
TZOFFSETFROM:-0700
TZOFFSETTO:-0800
TZNAME:PST
DTSTART:20241103T090000
END:STANDARD
BEGIN:DAYLIGHT
TZOFFSETFROM:-0800
TZOFFSETTO:-0700
TZNAME:PDT
DTSTART:20250309T100000
END:DAYLIGHT
BEGIN:STANDARD
TZOFFSETFROM:-0700
TZOFFSETTO:-0800
TZNAME:PST
DTSTART:20251102T090000
END:STANDARD
BEGIN:DAYLIGHT
TZOFFSETFROM:-0800
TZOFFSETTO:-0700
TZNAME:PDT
DTSTART:20260308T100000
END:DAYLIGHT
BEGIN:STANDARD
TZOFFSETFROM:-0700
TZOFFSETTO:-0800
TZNAME:PST
DTSTART:20261101T090000
END:STANDARD
END:VTIMEZONE
BEGIN:VEVENT
DTSTART;TZID=America/Los_Angeles:20250314T000000
DTEND;TZID=America/Los_Angeles:20250314T000000
DTSTAMP:20260421T055212
CREATED:20240726T092036Z
LAST-MODIFIED:20240809T192750Z
UID:2114-1741910400-1741910400@www.sunrisebeachschool.org
SUMMARY:Auction Set-Up ~ Volunteers "Needed" to Help in Gymnasium\, 8:30 am-12:00 noon - "Thank You!"
DESCRIPTION:
URL:https://www.sunrisebeachschool.org/event/auction-set-up-volunteers-needed-to-help-in-gymnasium-830-am-1200-noon-thank-you/
LOCATION:Sunrise Beach School
CATEGORIES:Sunrise Beach School
END:VEVENT
BEGIN:VEVENT
DTSTART;TZID=America/Los_Angeles:20250315T170000
DTEND;TZID=America/Los_Angeles:20250315T170000
DTSTAMP:20260421T055212
CREATED:20240726T092036Z
LAST-MODIFIED:20240809T192557Z
UID:2115-1742058000-1742058000@www.sunrisebeachschool.org
SUMMARY:Annual SBS/SBHS Auction\,"Sunrise Royal Ball"\, 5:00 pm\, Gymnasium
DESCRIPTION:
URL:https://www.sunrisebeachschool.org/event/annual-sbs-sbhs-auctionsunrise-royal-ball-500-pm-gymnasium/
LOCATION:Sunrise Beach School
CATEGORIES:Sunrise Beach School
END:VEVENT
BEGIN:VEVENT
DTSTART;TZID=America/Los_Angeles:20250321T000000
DTEND;TZID=America/Los_Angeles:20250321T000000
DTSTAMP:20260421T055212
CREATED:20240726T092036Z
LAST-MODIFIED:20240729T214812Z
UID:2110-1742515200-1742515200@www.sunrisebeachschool.org
SUMMARY:Continuing Education Day - No School
DESCRIPTION:No School
URL:https://www.sunrisebeachschool.org/event/continuing-education-day-no-school/
LOCATION:Sunrise Beach School
CATEGORIES:No School,Sunrise Beach School
END:VEVENT
BEGIN:VEVENT
DTSTART;TZID=America/Los_Angeles:20250327T120000
DTEND;TZID=America/Los_Angeles:20250327T120000
DTSTAMP:20260421T055212
CREATED:20240726T092036Z
LAST-MODIFIED:20240726T092646Z
UID:2109-1743076800-1743076800@www.sunrisebeachschool.org
SUMMARY:Associated Student Body (ASB) Meetings Rm 219: MS 11:30 am / HS 12:00 noon-High School Prom Planning
DESCRIPTION:
URL:https://www.sunrisebeachschool.org/event/associated-student-body-asb-meetings-rm-219-ms-1130-am-hs-1200-noon-high-school-prom-planning/
LOCATION:Sunrise Beach School
CATEGORIES:ASB Meetings,High School,Middle School,Sunrise Beach School
END:VEVENT
BEGIN:VEVENT
DTSTART;TZID=America/Los_Angeles:20250328T000000
DTEND;TZID=America/Los_Angeles:20250328T000000
DTSTAMP:20260421T055212
CREATED:20240726T092036Z
LAST-MODIFIED:20240726T092036Z
UID:2111-1743120000-1743120000@www.sunrisebeachschool.org
SUMMARY:Quarter 3 Ends; Progress Grades Due from Teachers to the Office: April 8
DESCRIPTION:
URL:https://www.sunrisebeachschool.org/event/quarter-3-ends-progress-grades-due-from-teachers-to-the-office-april-8/
LOCATION:Sunrise Beach School
CATEGORIES:Sunrise Beach School
END:VEVENT
BEGIN:VEVENT
DTSTART;TZID=America/Los_Angeles:20250328T000000
DTEND;TZID=America/Los_Angeles:20250328T000000
DTSTAMP:20260421T055212
CREATED:20240726T092036Z
LAST-MODIFIED:20240726T092036Z
UID:2112-1743120000-1743120000@www.sunrisebeachschool.org
SUMMARY:Washington State Science & Engineering Fair-Bremerton\, WA (Fri.=Grades 1-8 & Sat.=Grades 9-12)
DESCRIPTION:
URL:https://www.sunrisebeachschool.org/event/washington-state-science-engineering-fair-bremerton-wa-fri-grades-1-8-sat-grades-9-12-2/
LOCATION:Sunrise Beach School
CATEGORIES:Sunrise Beach School
END:VEVENT
BEGIN:VEVENT
DTSTART;TZID=America/Los_Angeles:20250329T000000
DTEND;TZID=America/Los_Angeles:20250329T000000
DTSTAMP:20260421T055212
CREATED:20240726T092036Z
LAST-MODIFIED:20240726T092036Z
UID:2113-1743206400-1743206400@www.sunrisebeachschool.org
SUMMARY:Washington State Science & Engineering Fair-Bremerton\, WA (Fri.=Grades 1-8 & Sat.=Grades 9-12)
DESCRIPTION:
URL:https://www.sunrisebeachschool.org/event/washington-state-science-engineering-fair-bremerton-wa-fri-grades-1-8-sat-grades-9-12/
LOCATION:Sunrise Beach School
CATEGORIES:Sunrise Beach School
END:VEVENT
BEGIN:VEVENT
DTSTART;TZID=America/Los_Angeles:20250331T000000
DTEND;TZID=America/Los_Angeles:20250331T000000
DTSTAMP:20260421T055212
CREATED:20240726T092036Z
LAST-MODIFIED:20240729T214812Z
UID:2116-1743379200-1743379200@www.sunrisebeachschool.org
SUMMARY:Spring Break\, March 31 - April 4 - No School
DESCRIPTION:
URL:https://www.sunrisebeachschool.org/event/spring-break-march-31-april-4-no-school-5/
LOCATION:Sunrise Beach School
CATEGORIES:No School,Sunrise Beach School
END:VEVENT
BEGIN:VEVENT
DTSTART;TZID=America/Los_Angeles:20250401T000000
DTEND;TZID=America/Los_Angeles:20250401T000000
DTSTAMP:20260421T055212
CREATED:20240726T092035Z
LAST-MODIFIED:20240726T092035Z
UID:2117-1743465600-1743465600@www.sunrisebeachschool.org
SUMMARY:Spring Break\, March 31 - April 4 - No School
DESCRIPTION:
URL:https://www.sunrisebeachschool.org/event/spring-break-march-31-april-4-no-school-4/
LOCATION:Sunrise Beach School
CATEGORIES:Sunrise Beach School
END:VEVENT
BEGIN:VEVENT
DTSTART;TZID=America/Los_Angeles:20250402T000000
DTEND;TZID=America/Los_Angeles:20250402T000000
DTSTAMP:20260421T055212
CREATED:20240726T092035Z
LAST-MODIFIED:20240729T214812Z
UID:2118-1743552000-1743552000@www.sunrisebeachschool.org
SUMMARY:Spring Break\, March 31 - April 4 - No School
DESCRIPTION:
URL:https://www.sunrisebeachschool.org/event/spring-break-march-31-april-4-no-school-3/
LOCATION:Sunrise Beach School
CATEGORIES:No School,Sunrise Beach School
END:VEVENT
BEGIN:VEVENT
DTSTART;TZID=America/Los_Angeles:20250403T000000
DTEND;TZID=America/Los_Angeles:20250403T000000
DTSTAMP:20260421T055212
CREATED:20240726T092035Z
LAST-MODIFIED:20240729T214812Z
UID:2119-1743638400-1743638400@www.sunrisebeachschool.org
SUMMARY:Spring Break\, March 31 - April 4 - No School
DESCRIPTION:
URL:https://www.sunrisebeachschool.org/event/spring-break-march-31-april-4-no-school-2/
LOCATION:Sunrise Beach School
CATEGORIES:No School,Sunrise Beach School
END:VEVENT
BEGIN:VEVENT
DTSTART;TZID=America/Los_Angeles:20250404T000000
DTEND;TZID=America/Los_Angeles:20250404T000000
DTSTAMP:20260421T055212
CREATED:20240726T092035Z
LAST-MODIFIED:20240729T214812Z
UID:2121-1743724800-1743724800@www.sunrisebeachschool.org
SUMMARY:Spring Break - No School - (NOTE: Olympia Junior Programs at the WA Center begin this Month - Dates TBA).
DESCRIPTION:
URL:https://www.sunrisebeachschool.org/event/spring-break-no-school-note-olympia-junior-programs-at-the-wa-center-begin-this-month-dates-tba/
LOCATION:Sunrise Beach School
CATEGORIES:No School,Sunrise Beach School
END:VEVENT
BEGIN:VEVENT
DTSTART;TZID=America/Los_Angeles:20250404T000000
DTEND;TZID=America/Los_Angeles:20250404T000000
DTSTAMP:20260421T055212
CREATED:20240726T092035Z
LAST-MODIFIED:20240729T214812Z
UID:2120-1743724800-1743724800@www.sunrisebeachschool.org
SUMMARY:Spring Break\, March 31 - April 4 - No School
DESCRIPTION:
URL:https://www.sunrisebeachschool.org/event/spring-break-march-31-april-4-no-school/
LOCATION:Sunrise Beach School
CATEGORIES:No School,Sunrise Beach School
END:VEVENT
BEGIN:VEVENT
DTSTART;TZID=America/Los_Angeles:20250407T000000
DTEND;TZID=America/Los_Angeles:20250407T000000
DTSTAMP:20260421T055212
CREATED:20240726T092035Z
LAST-MODIFIED:20240726T092035Z
UID:2122-1743984000-1743984000@www.sunrisebeachschool.org
SUMMARY:Final Sign-Up for Sunrise Beach School's Got Talent - School Office
DESCRIPTION:
URL:https://www.sunrisebeachschool.org/event/final-sign-up-for-sunrise-beach-schools-got-talent-school-office/
LOCATION:Sunrise Beach School
CATEGORIES:Sunrise Beach School
END:VEVENT
BEGIN:VEVENT
DTSTART;TZID=America/Los_Angeles:20250411T000000
DTEND;TZID=America/Los_Angeles:20250411T000000
DTSTAMP:20260421T055212
CREATED:20240726T092035Z
LAST-MODIFIED:20240726T092035Z
UID:2124-1744329600-1744329600@www.sunrisebeachschool.org
SUMMARY:Talent Show\, Concert\, and Science Fair Presentations/Displays\, 6:00 pm\, Gymnasium
DESCRIPTION:
URL:https://www.sunrisebeachschool.org/event/talent-show-concert-and-science-fair-presentations-displays-600-pm-gymnasium/
LOCATION:Sunrise Beach School
CATEGORIES:Sunrise Beach School
END:VEVENT
BEGIN:VEVENT
DTSTART;TZID=America/Los_Angeles:20250411T113000
DTEND;TZID=America/Los_Angeles:20250411T113000
DTSTAMP:20260421T055212
CREATED:20240726T092035Z
LAST-MODIFIED:20240729T215238Z
UID:2123-1744371000-1744371000@www.sunrisebeachschool.org
SUMMARY:All School Early Dismissal\, 11:30 am
DESCRIPTION:
URL:https://www.sunrisebeachschool.org/event/all-school-early-dismissal-1130-am-2/
LOCATION:Sunrise Beach School
CATEGORIES:Early Dismissal,Sunrise Beach School
END:VEVENT
BEGIN:VEVENT
DTSTART;TZID=America/Los_Angeles:20250416T090000
DTEND;TZID=America/Los_Angeles:20250416T180000
DTSTAMP:20260421T055212
CREATED:20240729T215635Z
LAST-MODIFIED:20240729T215635Z
UID:2297-1744794000-1744826400@www.sunrisebeachschool.org
SUMMARY:Parent-Teacher Conferences from 9:00 am - 6:00 pm - No School
DESCRIPTION:
URL:https://www.sunrisebeachschool.org/event/parent-teacher-conferences-from-900-am-600-pm-no-school/
CATEGORIES:Elementary School,High School,Middle School,No School,Sunrise Beach School
END:VEVENT
BEGIN:VEVENT
DTSTART;TZID=America/Los_Angeles:20250416T113000
DTEND;TZID=America/Los_Angeles:20250416T113000
DTSTAMP:20260421T055212
CREATED:20240726T092035Z
LAST-MODIFIED:20240729T215340Z
UID:2125-1744803000-1744803000@www.sunrisebeachschool.org
SUMMARY:Early Dismissal for Elementary Only\, 11:30 am
DESCRIPTION:
URL:https://www.sunrisebeachschool.org/event/early-dismissal-for-elementary-only-1130-am-conferences-12-600-pm-no-school-ms-hs-conferences-9-6-pm/
LOCATION:Sunrise Beach School
CATEGORIES:Early Dismissal,Elementary School,Sunrise Beach School
END:VEVENT
BEGIN:VEVENT
DTSTART;TZID=America/Los_Angeles:20250417T000000
DTEND;TZID=America/Los_Angeles:20250417T000000
DTSTAMP:20260421T055212
CREATED:20240726T092035Z
LAST-MODIFIED:20240729T214812Z
UID:2126-1744848000-1744848000@www.sunrisebeachschool.org
SUMMARY:No School  - Parent Teacher Conference Overflow
DESCRIPTION:
URL:https://www.sunrisebeachschool.org/event/no-school-parent-teacher-conference-overflow/
LOCATION:Sunrise Beach School
CATEGORIES:No School,Sunrise Beach School
END:VEVENT
BEGIN:VEVENT
DTSTART;TZID=America/Los_Angeles:20250418T000000
DTEND;TZID=America/Los_Angeles:20250418T000000
DTSTAMP:20260421T055212
CREATED:20240726T092035Z
LAST-MODIFIED:20240729T214812Z
UID:2127-1744934400-1744934400@www.sunrisebeachschool.org
SUMMARY:Good Friday - No School
DESCRIPTION:
URL:https://www.sunrisebeachschool.org/event/good-friday-no-school/
LOCATION:Sunrise Beach School
CATEGORIES:No School,Sunrise Beach School
END:VEVENT
BEGIN:VEVENT
DTSTART;TZID=America/Los_Angeles:20250420T000000
DTEND;TZID=America/Los_Angeles:20250420T000000
DTSTAMP:20260421T055212
CREATED:20240726T092307Z
LAST-MODIFIED:20240726T092307Z
UID:2128-1745107200-1745107200@www.sunrisebeachschool.org
SUMMARY:Easter Sunday - "Praying your Easter will be filled with the hope and joy of our risen Savior"
DESCRIPTION:
URL:https://www.sunrisebeachschool.org/event/easter-sunday-praying-your-easter-will-be-filled-with-the-hope-and-joy-of-our-risen-savior/
LOCATION:Sunrise Beach School
CATEGORIES:Sunrise Beach School
END:VEVENT
BEGIN:VEVENT
DTSTART;TZID=America/Los_Angeles:20250422T080000
DTEND;TZID=America/Los_Angeles:20250422T080000
DTSTAMP:20260421T055212
CREATED:20240820T072340Z
LAST-MODIFIED:20240820T072340Z
UID:2532-1745308800-1745308800@www.sunrisebeachschool.org
SUMMARY:College Board PSAT—10
DESCRIPTION:
URL:https://www.sunrisebeachschool.org/event/college-board-psat-10/
LOCATION:Sunrise Beach School
CATEGORIES:High School,Parents & Guardians,Sunrise Beach School,Testing
END:VEVENT
BEGIN:VEVENT
DTSTART;TZID=America/Los_Angeles:20250423T120000
DTEND;TZID=America/Los_Angeles:20250423T120000
DTSTAMP:20260421T055212
CREATED:20240726T092307Z
LAST-MODIFIED:20240726T092646Z
UID:2129-1745409600-1745409600@www.sunrisebeachschool.org
SUMMARY:Associated Student Body (ASB) Meetings Rm 219: MS 11:30 am / HS 12:00 noon-High School Prom Preparation
DESCRIPTION:
URL:https://www.sunrisebeachschool.org/event/associated-student-body-asb-meetings-rm-219-ms-1130-am-hs-1200-noon-high-school-prom-preparation/
LOCATION:Sunrise Beach School
CATEGORIES:ASB Meetings,High School,Middle School,Sunrise Beach School
END:VEVENT
BEGIN:VEVENT
DTSTART;TZID=America/Los_Angeles:20250425T000000
DTEND;TZID=America/Los_Angeles:20250425T000000
DTSTAMP:20260421T055212
CREATED:20240726T092307Z
LAST-MODIFIED:20240726T092307Z
UID:2130-1745539200-1745539200@www.sunrisebeachschool.org
SUMMARY:Elementary Spring Tea - Invite a Parent (or) Grandparent to a Classroom Tea Party (Afternoon Tea Times-TBA)
DESCRIPTION:
URL:https://www.sunrisebeachschool.org/event/elementary-spring-tea-invite-a-parent-or-grandparent-to-a-classroom-tea-party-afternoon-tea-times-tba/
LOCATION:Sunrise Beach School
CATEGORIES:Sunrise Beach School
END:VEVENT
BEGIN:VEVENT
DTSTART;TZID=America/Los_Angeles:20250428T000000
DTEND;TZID=America/Los_Angeles:20250428T000000
DTSTAMP:20260421T055212
CREATED:20240726T092139Z
LAST-MODIFIED:20240726T092139Z
UID:2134-1745798400-1745798400@www.sunrisebeachschool.org
SUMMARY:Teacher Appreciation Week: April 28 - May 2
DESCRIPTION:
URL:https://www.sunrisebeachschool.org/event/teacher-appreciation-week-april-28-may-2-3/
LOCATION:Sunrise Beach School
CATEGORIES:Sunrise Beach School
END:VEVENT
BEGIN:VEVENT
DTSTART;TZID=America/Los_Angeles:20250428T000000
DTEND;TZID=America/Los_Angeles:20250428T000000
DTSTAMP:20260421T055212
CREATED:20240726T092307Z
LAST-MODIFIED:20240726T092307Z
UID:2131-1745798400-1745798400@www.sunrisebeachschool.org
SUMMARY:Spiritual Emphasis Week\, April 28-May 2
DESCRIPTION:
URL:https://www.sunrisebeachschool.org/event/spiritual-emphasis-week-april-28-may-2-3/
LOCATION:Sunrise Beach School
CATEGORIES:Sunrise Beach School
END:VEVENT
BEGIN:VEVENT
DTSTART;TZID=America/Los_Angeles:20250429T000000
DTEND;TZID=America/Los_Angeles:20250429T000000
DTSTAMP:20260421T055212
CREATED:20240726T092139Z
LAST-MODIFIED:20240726T092139Z
UID:2132-1745884800-1745884800@www.sunrisebeachschool.org
SUMMARY:Spiritual Emphasis Week\, April 28-May 2
DESCRIPTION:
URL:https://www.sunrisebeachschool.org/event/spiritual-emphasis-week-april-28-may-2-2/
LOCATION:Sunrise Beach School
CATEGORIES:Sunrise Beach School
END:VEVENT
BEGIN:VEVENT
DTSTART;TZID=America/Los_Angeles:20250429T000000
DTEND;TZID=America/Los_Angeles:20250429T000000
DTSTAMP:20260421T055212
CREATED:20240726T092139Z
LAST-MODIFIED:20240726T092139Z
UID:2135-1745884800-1745884800@www.sunrisebeachschool.org
SUMMARY:Teacher Appreciation Week: April 28 - May 2
DESCRIPTION:
URL:https://www.sunrisebeachschool.org/event/teacher-appreciation-week-april-28-may-2-2/
LOCATION:Sunrise Beach School
CATEGORIES:Sunrise Beach School
END:VEVENT
BEGIN:VEVENT
DTSTART;TZID=America/Los_Angeles:20250430T000000
DTEND;TZID=America/Los_Angeles:20250430T000000
DTSTAMP:20260421T055212
CREATED:20240726T092139Z
LAST-MODIFIED:20240726T092139Z
UID:2133-1745971200-1745971200@www.sunrisebeachschool.org
SUMMARY:Spiritual Emphasis Week\, April 28-May 2
DESCRIPTION:
URL:https://www.sunrisebeachschool.org/event/spiritual-emphasis-week-april-28-may-2/
LOCATION:Sunrise Beach School
CATEGORIES:Sunrise Beach School
END:VEVENT
BEGIN:VEVENT
DTSTART;TZID=America/Los_Angeles:20250430T000000
DTEND;TZID=America/Los_Angeles:20250430T000000
DTSTAMP:20260421T055212
CREATED:20240726T092139Z
LAST-MODIFIED:20240726T092139Z
UID:2136-1745971200-1745971200@www.sunrisebeachschool.org
SUMMARY:Teacher Appreciation Week: April 28 - May 2
DESCRIPTION:
URL:https://www.sunrisebeachschool.org/event/teacher-appreciation-week-april-28-may-2/
LOCATION:Sunrise Beach School
CATEGORIES:Sunrise Beach School
END:VEVENT
END:VCALENDAR